BEGIN:VCALENDAR
VERSION:2.0
PRODID:-//eventon.com NONSGML v1.0//EN
CALSCALE:GREGORIAN
METHOD:PUBLISH
BEGIN:VEVENT
UID:69e895503decc
DTSTAMP:20260422T093056Z
DTSTART:20250809T180000Z
DTEND:20250809T220000Z
LOCATION:Burger King 4829 Hope Valley Road\, 
SUMMARY:Free Child ID Event
DESCRIPTION:Bring your kids on August 9th to the Burger King on Hope Valley
  Road to get your child an EZ ID. EZ ID makes it simple to have all your ch
 ild&#8217;s pertinent information on a thumb drive ready to hand over to la
 w enforcement for immediate dissemination.\nhttps://chapelboro.com/events/f
 ree-child-id-event-2
URL:https://chapelboro.com/events/free-child-id-event-2
END:VEVENT
END:VCALENDAR