BEGIN:VCALENDAR
VERSION:2.0
PRODID:-//eventon.com NONSGML v1.0//EN
CALSCALE:GREGORIAN
METHOD:PUBLISH
BEGIN:VEVENT
UID:69e5a16ee06a9
DTSTAMP:20260420T034550Z
DTSTART:20250206T223000Z
DTEND:20250207T045900Z
LOCATION:Flyleaf Books 752 Martin Luther King Jr Blvd\,  Chapel Hill\,  NC 27510
SUMMARY:Amal El-Mohtar presents THE RIVER HAS ROOTS\,  with Alyssa Wong
DESCRIPTION:The hugely anticipated solo debut of New York Times bestselling
  author and Hugo Award winner Amal El-Mohtar\,  an enchanting story of two 
 sisters\,  heirs to an extraordinary stewardship on the edge of Faerie\,  s
 eparated by worlds\,  desires\,  and even death\,  who never let go of thei
 r love. What the town[..]\nhttps://chapelboro.com/events/amal-el-mohtar-pre
 sents-the-river-has-roots-with-alyssa-wong
URL:https://chapelboro.com/events/amal-el-mohtar-presents-the-river-has-roots-with-alyssa-wong
END:VEVENT
END:VCALENDAR