BEGIN:VCALENDAR
VERSION:2.0
PRODID:-//eventon.com NONSGML v1.0//EN
CALSCALE:GREGORIAN
METHOD:PUBLISH
BEGIN:VEVENT
UID:69e8ca51d50d0
DTSTAMP:20260422T131705Z
DTSTART:20221204T193000Z
DTEND:20221204T220000Z
LOCATION:Paul Green Theatre 120 Country Club Rd\,  Chapel Hill\,  NC 27514
SUMMARY:Emma
DESCRIPTION:Emma By Kate Hamill Based on the novel by Jane Austen  Directe
 d by Meredith McDonough &nbsp; Who needs to swipe right when you have Emma 
 Woodhouse? &nbsp; Emma prides herself on being a matchmaker with an impecca
 ble track record. But her best-laid plans are turned upside down by unpredi
 ctable displays[..]\nhttps://chapelboro.com/events/emma/var/ri-3.l-L1
URL:https://chapelboro.com/events/emma/var/ri-3.l-L1
END:VEVENT
END:VCALENDAR