BEGIN:VCALENDAR
VERSION:2.0
PRODID:-//eventon.com NONSGML v1.0//EN
CALSCALE:GREGORIAN
METHOD:PUBLISH
BEGIN:VEVENT
UID:69eaaef9b7b7b
DTSTAMP:20260423T234457Z
DTSTART:20211127T110000Z
DTEND:20211127T170000Z
LOCATION:Carolina Square 133 W Franklin St. #100\,  Chapel Hill\,  NC 27516
SUMMARY:Business Exchange
DESCRIPTION:Click here to register for free: (Otherwise\,  10$ at the door)
  You are invited to The Raleigh Franchise Show at North Carolina State Fair
  Expo Center in Raleigh\,  North Carolina! (*Safety Precautions are in Plac
 e*) Buying a franchise or proven business opportunity eliminates all the ha
 rd work of opening a[..]\nhttps://chapelboro.com/events/business-exchange/v
 ar/ri-1.l-L1
URL:https://chapelboro.com/events/business-exchange/var/ri-1.l-L1
END:VEVENT
END:VCALENDAR