BEGIN:VCALENDAR
VERSION:2.0
PRODID:-//eventon.com NONSGML v1.0//EN
CALSCALE:GREGORIAN
METHOD:PUBLISH
BEGIN:VEVENT
UID:69e74e10c6213
DTSTAMP:20260421T101440Z
DTSTART:20200714T113000Z
DTEND:20200714T123000Z
LOCATION:Online (Virtual Event)
SUMMARY:Hello Care Partners-Tuesday virtual meetings
DESCRIPTION:Hello! Care Partners A  weekly 30-minute online session for pe
 ople living with mid-stage dementia.  We want folks to feel connected and 
 included in our small weekly group that takes things slowly and with a smil
 e. We enjoy the moment with hello’s and how are you’s\,  songs and stor
 ies\,  pictures and[..]\nhttps://chapelboro.com/events/hello-care-partners-
 tuesday-virtual-meetings/var/ri-1.l-L1
URL:https://chapelboro.com/events/hello-care-partners-tuesday-virtual-meetings/var/ri-1.l-L1
END:VEVENT
END:VCALENDAR